{"text_format":"1","workbook":"xlsx","n_sheets":3,"sheets":["Intro","2x2","5x5"],"not_rendered":{"charts":0,"images":11,"macros":1,"external_links":0,"defined_names":0,"comments":0,"pivot_tables":0},"unopened":[],"bounds":{"document_bytes":16777216,"sheet_cells":100000,"rows_first":2000,"rows_last":500,"rows_between":2000,"halvings":0,"cell_chars":16384,"cell_head_chars":4096},"cells_cut":0,"cells_raw":0,"read":"whole","date_system":"1900"}

{"sheet":"Intro","index":0,"n_rows":37,"n_cols":22,"rows_kept":37,"cut":false,"hidden":false,"merged":[[2,1,2,17],[1,19,1,24]]}
[]
[null,null,null,null,null,null,null,null,null,null,null,null,null,null,null,null,null,null,null,"www.boundary-element-method.com"]
[null,"Solving a general linear system of equations"]
[]
[]
[null,null,null,null,null,null,null,null,null,null,null,null,null,null,null,null,null,null,"guide to this spreadsheet",null,null,"https://www.researchgate.net/profile/Stephen_Kirkup/publication/327797680_GLS/data/5ba4fc5245851574f7dd0075/GLS.xlsm?_sg%5B0%5D=Vx8qaGJKpqJ6fgMTsIKsIKH06LaY8RO5LM2mZZcMQNAvrzO00beE943Ro2P30YVJO9tBpDC3iFqgcU8me9JXkQ.zijWNUonemuUka9qvsatTXfvIEbVfGbg_3E2F9SD7Sqp_WhRuMRBtAwmL_sqtpjaJSLaEbQHc3AS0UfyyXPYlw&_sg%5B1%5D=3mZm2o8iQ8-mDSAGFa3wLc3664f1M-PhYT9IOIUKZw4Y6hZJlag23WYr2DdSXB-v11q90fI6MseI2TYrw0eg1TnP3lwgH0v6S6sB9VR2ZyEu.zijWNUonemuUka9qvsatTXfvIEbVfGbg_3E2F9SD7Sqp_WhRuMRBtAwmL_sqtpjaJSLaEbQHc3AS0UfyyXPYlw&_iepl="]
[]
[null,null,null,null,null,null,null,null,null,null,null,null,null,null,null,null,null,null,"guide to gls.bas",null,null,"https://www.researchgate.net/publication/327797685_gls_bas"]
[]
[null,null,null,null,null,null,null,null,null,null,null,null,null,null,null,null,null,null,"guide to regls.bas ",null,null,"https://www.researchgate.net/publication/327797858_regls_bas"]
[]
[]
[null,null,null,null,null,null,null,null,null,null,null,null,null,null,null,null,null,"On sheet 5x5 we have the solution of a 5x5 system"]
[]
[]
[]
[]
[]
[]
[]
[]
[]
[null,null,null,"On sheet 2x2 we have the solution of the 2x2 system"]
[]
[]
[]
[]
[]
[]
[]
[]
[]
[]
[]
[]
[]
[null,null,null,"Ref","A Solution Method for the Generalised Linear Systems of Equations Arising in Direct Boundary Element Methods Applied to Problems with Robin Boundary Conditions"]

{"sheet":"2x2","index":1,"n_rows":37,"n_cols":36,"rows_kept":37,"cut":false,"hidden":false,"merged":[[1,1,1,16],[6,7,7,7],[5,2,5,3],[5,9,5,10],[6,5,7,5],[6,12,7,12],[9,26,9,27],[10,32,11,32],[10,34,11,34],[6,14,7,14],[5,19,5,20],[6,24,7,24],[5,26,5,27],[10,14,11,14],[10,24,11,24],[10,30,11,30],[6,30,7,30],[6,32,7,32],[6,34,7,34],[9,19,9,20],[10,7,11,7],[16,12,17,12],[16,14,17,14],[9,2,9,3],[9,9,9,10],[10,5,11,5],[10,12,11,12],[29,19,29,20],[29,26,29,27],[19,12,20,12],[19,14,20,14],[25,2,25,3],[25,9,25,10],[25,19,25,20],[25,26,25,27],[30,24,31,24],[30,30,31,30],[30,32,31,32],[30,34,31,34],[26,24,27,24],[26,30,27,30],[26,32,27,32],[26,34,27,34],[30,14,31,14],[29,2,29,3],[29,9,29,10],[30,5,31,5],[30,7,31,7],[30,12,31,12]]}
[]
[null,"Solving a 2x2 general linear sytem of equations"]
[]
[]
[null,"Solution of a General Linear System : dimension = 2",null,null,null,null,null,null,null,null,null,null,null,null,null,null,null,null,null,"Guide: Set up the test problem in the brown areas. The test problem date is copied to the yellow areas."]
[null,null,"A",null,null,null,null,null,null,"B",null,null,null,null,null,"c",null,null,null,"A",null,null,"x",null,null,null,"B",null,null,"y",null,"Ax",null,"By",null,"c"]
[null,null,{"$f":"T7","v":4},{"$f":"U7","v":-1},null,"x",null,"=",null,{"$f":"AA7","v":1},{"$f":"AB7","v":1},null,"y",null,"+",{"$f":"AJ7","v":-15},null,null,null,4,-1,null,-1,null,"-",null,1,1,null,1,"=",{"$f":"MMULT(T7:U8,W7:W8)","v":-11},"-",{"$f":"MMULT(AA7:AB8,AD7:AD8)","v":4},"=",{"$f":"AF7-AH7","v":-15}]
[null,null,{"$f":"T8","v":3},{"$f":"U8","v":1},null,null,null,null,null,{"$f":"AA8","v":2},{"$f":"AB8","v":-3},null,null,null,null,{"$f":"AJ8","v":11},null,null,null,3,1,null,7,null,null,null,2,-3,null,3,null,4,null,-7,null,{"$f":"AF8-AH8","v":11}]
[]
[null,null,"D_alpha",null,null,null,null,null,null,"D_beta",null,null,null,null,null,"f",null,null,null,"D_alpha",null,null,"x",null,null,null,"D_beta",null,null,"y",null,"D_alpha x",null,"D_beta y",null,"f"]
[null,null,{"$f":"T11","v":0.5},0,null,"x",null,"+",null,{"$f":"AA11","v":0.1},0,null,"y",null,"=",{"$f":"AJ11","v":-0.4},null,null,null,0.5,0,null,{"$f":"W7","v":-1},null,"+",null,0.1,0,null,{"$f":"AD7","v":1},"=",{"$f":"MMULT(T11:U12,W11:W12)","v":-0.5},"+",{"$f":"MMULT(AA11:AB12,AD11:AD12)","v":0.1},"=",{"$f":"AF11+AH11","v":-0.4}]
[null,null,0,{"$f":"U12","v":-2},null,null,null,null,null,0,{"$f":"AB12","v":5},null,null,null,null,{"$f":"AJ12","v":1},null,null,null,0,-2,null,{"$f":"W8","v":7},null,null,null,0,5,null,{"$f":"AD8","v":3},null,-14,null,15,null,{"$f":"AF12+AH12","v":1}]
[]
[]
[]
[]
[null,null,null,null,null,null,null,null,null,null,null,null,"x",null,"=",-1.0000000000000002]
[null,null,null,null,null,null,null,null,null,null,null,null,null,null,null,7,null,null,null,null,null,null,null,null,null,null,null,"source","http://www.boundary-element-method.com/Excel_VBA/gls.xlsm"]
[null,null,null,null,null,null,null,null,null,null,null,null,null,null,null,null,null,null,null,null,null,null,null,null,null,null,null,"guide","http://www.boundary-element-method.com/Excel_VBA/gls_bas.pdf"]
[null,null,null,null,null,null,null,null,null,null,null,null,"y",null,"=",1.0000000000000004]
[null,null,null,null,null,null,null,null,null,null,null,null,null,null,null,3]
[]
[]
[]
[null,"Stored information from the gls module. This can be re-used by the regls module to find a 'quick' solution if only c and f are changed.",null,null,null,null,null,null,null,null,null,null,null,null,null,null,null,null,null,"Guide: A and B are assumed tobe 'fixed' (as above). Set up the test problem in the brown areas. "]
[null,null,"new 'A'",null,null,null,null,null,null,"new 'B'",null,null,null,null,"xory","perm",null,null,null,"A",null,null,"x",null,null,null,"B",null,null,"y",null,"Ax",null,"By",null,"c"]
[null,null,-2.6,2.2000000000000002,null,null,null,null,null,-8,0.2,null,null,null,false,2,null,null,null,{"$f":"T7","v":4},{"$f":"U7","v":-1},null,5,null,"-",null,{"$f":"AA7","v":1},{"$f":"AB7","v":1},null,2,"=",{"$f":"MMULT(T27:U28,W27:W28)","v":23},"-",{"$f":"MMULT(AA27:AB28,AD27:AD28)","v":-5},"=",{"$f":"AF27-AH27","v":28}]
[null,null,0.69230769230769229,-2.9230769230769234,null,null,null,null,null,-6,-0.6,null,null,null,true,1,null,null,null,{"$f":"T8","v":3},{"$f":"U8","v":1},null,-3,null,null,null,{"$f":"AA8","v":2},{"$f":"AB8","v":-3},null,-7,null,12,null,25,null,{"$f":"AF28-AH28","v":-13}]
[]
[null,null,"D_alpha",null,null,null,null,null,null,"D_beta",null,null,null,null,null,"f",null,null,null,"D_alpha",null,null,"x",null,null,null,"D_beta",null,null,"y",null,"D_alpha x",null,"D_beta y",null,"f"]
[null,null,{"$f":"T31","v":0.5},0,null,"x",null,"+",null,{"$f":"AA31","v":0.1},0,null,"y",null,"=",{"$f":"AJ31","v":2.7},null,null,null,{"$f":"T11","v":0.5},{"$f":"U11","v":0},null,{"$f":"W27","v":5},null,"+",null,{"$f":"AA11","v":0.1},{"$f":"AB11","v":0},null,{"$f":"AD27","v":2},"=",{"$f":"MMULT(T31:U32,W31:W32)","v":2.5},"+",{"$f":"MMULT(AA31:AB32,AD31:AD32)","v":0.2},"=",{"$f":"AF31+AH31","v":2.7}]
[null,null,0,{"$f":"U32","v":-2},null,null,null,null,null,0,{"$f":"AB32","v":5},null,null,null,null,{"$f":"AJ32","v":-29},null,null,null,{"$f":"T12","v":0},{"$f":"U12","v":-2},null,{"$f":"W28","v":-3},null,null,null,{"$f":"AA12","v":0},{"$f":"AB12","v":5},null,{"$f":"AD28","v":-7},null,6,null,-35,null,{"$f":"AF32+AH32","v":-29}]
[]
[]
[null,"new c",null,"new f",null,null,null,null,null,null,null,null,"x",null,"y"]
[null,{"$f":"AJ27","v":28},null,{"$f":"P31","v":2.7},null,null,null,null,null,null,null,null,5,null,2.0000000000000013,null,null,null,null,"source","http://www.boundary-element-method.com/Excel_VBA/regls.xlsm"]
[null,{"$f":"AJ28","v":-13},null,{"$f":"P32","v":-29},null,null,null,null,null,null,null,null,-3,null,-7,null,null,null,null,"guide","http://www.boundary-element-method.com/Excel_VBA/regls_bas.pdf"]

{"sheet":"5x5","index":2,"n_rows":56,"n_cols":55,"rows_kept":56,"cut":false,"hidden":false,"merged":[[1,2,1,23],[43,52,47,52],[32,26,32,50],[42,2,42,6],[42,12,42,16],[43,8,47,8],[43,10,47,10],[43,18,47,18],[43,20,47,20],[34,26,34,30],[34,36,34,40],[35,34,39,34],[35,44,39,44],[35,48,39,48],[35,52,39,52],[42,26,42,30],[42,36,42,40],[42,45,42,47],[42,49,42,51],[43,34,47,34],[43,44,47,44],[43,48,47,48],[7,52,11,52],[7,8,11,8],[7,10,11,10],[6,2,6,6],[6,12,6,16],[7,18,11,18],[7,20,11,20],[14,49,14,51],[15,48,19,48],[6,26,6,30],[7,34,11,34],[6,36,6,40],[7,44,11,44],[7,48,11,48],[15,52,19,52],[24,17,28,17],[24,16,28,16],[24,21,28,21],[24,22,28,22],[15,18,19,18],[15,20,19,20],[15,34,19,34],[15,44,19,44],[14,12,14,16],[4,26,4,47],[32,1,32,22],[34,2,34,6],[34,12,34,16],[14,2,14,6],[15,10,19,10],[15,8,19,8],[14,26,14,30],[14,36,14,40],[14,45,14,47]]}
[]
[null,null,"Solving a 5x5 general linear system of equations"]
[]
[]
[null,"Solution of a General Linear System : dimension = 5",null,null,null,null,null,null,null,null,null,null,null,null,null,null,null,null,null,null,null,null,null,null,null,null,{"$f":"'2x2'!$T$5","v":"Guide: Set up the test problem in the brown areas. The test problem date is copied to the yellow areas."}]
[]
[null,null,"A",null,null,null,null,null,null,null,null,null,"B",null,null,null,null,null,null,null,null,null,"c",null,null,null,"A",null,null,null,null,null,"x",null,null,null,"B",null,null,null,null,null,"y",null,null,null,"Ax",null,null,null,"By",null,null,null,"c"]
[null,null,{"$f":"AA8","v":19},-32,-92,62,-82,null,"x",null,"=",null,{"$f":"AK8","v":-0.89},0.16,0.92,-0.79,-0.96,null,"y",null,"+",null,{"$f":"BC8","v":0.5600000000000005},null,null,null,19,-32,-92,62,-82,null,-0.06,null,"-",null,-0.89,0.16,0.92,-0.79,-0.96,null,6,null,"=",null,{"$f":"MMULT(AA8:AE12,AG8:AG12)","v":-7.4399999999999995},null,"-",null,{"$f":"MMULT(AK8:AO12,AQ8:AQ12)","v":-8},null,"=",null,{"$f":"AU8-AY8","v":0.5600000000000005}]
[null,null,93,91,-17,42,26,null,null,null,null,null,0.32,0.83,-0.41,-0.47,0.55000000000000004,null,null,null,null,null,{"$f":"BC9","v":-15.669999999999998},null,null,null,93,91,-17,42,26,null,-0.04,null,null,null,0.32,0.83,-0.41,-0.47,0.55000000000000004,null,3,null,null,null,-12.36,null,null,null,3.3099999999999996,null,null,null,{"$f":"AU9-AY9","v":-15.669999999999998}]
[null,null,76,98,-5,-92,-66,null,null,null,null,null,0.67,0.87,0.94,-0.37,0.57999999999999996,null,null,null,null,null,{"$f":"BC10","v":1.8299999999999974},null,null,null,76,98,-5,-92,-66,null,0.08,null,null,null,0.67,0.87,0.94,-0.37,0.57999999999999996,null,-9,null,null,null,-4.8000000000000007,null,null,null,-6.6299999999999981,null,null,null,{"$f":"AU10-AY10","v":1.8299999999999974}]
[null,null,-31,-91,-94,13,-80,null,null,null,null,null,-0.53,0.42,-0.73,-0.46,-0.12,null,null,null,null,null,{"$f":"BC11","v":-5.3800000000000008},null,null,null,-31,-91,-94,13,-80,null,-0.03,null,null,null,-0.53,0.42,-0.73,-0.46,-0.12,null,2,null,null,null,-0.8100000000000005,null,null,null,4.57,null,null,null,{"$f":"AU11-AY11","v":-5.3800000000000008}]
[null,null,-91,11,-89,-4,-37,null,null,null,null,null,-0.56999999999999995,0.96,-0.14000000000000001,0.82,0.9,null,null,null,null,null,{"$f":"BC12","v":2.6999999999999993},null,null,null,-91,11,-89,-4,-37,null,-0.02,null,null,null,-0.56999999999999995,0.96,-0.14000000000000001,0.82,0.9,null,-7,null,null,null,-1.2400000000000004,null,null,null,-3.9399999999999995,null,null,null,{"$f":"AU12-AY12","v":2.6999999999999993}]
[]
[]
[null,null,"D_alpha",null,null,null,null,null,null,null,null,null,"D_beta",null,null,null,null,null,null,null,null,null,"f",null,null,null,"D_alpha",null,null,null,null,null,"x",null,null,null,"D_beta",null,null,null,null,null,"y",null,null,"D_alpha x",null,null,null,"D_beta y",null,null,null,null,"f"]
[null,null,{"$f":"AA16","v":8},0,0,0,0,null,"x",null,"+",null,{"$f":"AK16","v":2.5},0,0,0,0,null,"y",null,"=",null,{"$f":"BC16","v":14.52},null,null,null,8,0,0,0,0,null,{"$f":"AG8","v":-0.06},null,"+",null,2.5,0,0,0,0,null,{"$f":"AQ8","v":6},null,"=",null,{"$f":"MMULT(AA16:AE20,AG16:AG20)","v":-0.48},null,"+",null,{"$f":"MMULT(AK16:AO20,AQ16:AQ20)","v":15},null,"=",null,{"$f":"AU16+AY16","v":14.52}]
[null,null,0,66,0,0,0,null,null,null,null,null,0,-0.3,0,0,0,null,null,null,null,null,{"$f":"BC17","v":-3.54},null,null,null,0,66,0,0,0,null,{"$f":"AG9","v":-0.04},null,null,null,0,-0.3,0,0,0,null,{"$f":"AQ9","v":3},null,null,null,-2.64,null,null,null,-0.89999999999999991,null,null,null,{"$f":"AU17+AY17","v":-3.54}]
[null,null,0,0,0,0,0,null,null,null,null,null,0,0,-0.96,0,0,null,null,null,null,null,{"$f":"BC18","v":8.64},null,null,null,0,0,0,0,0,null,{"$f":"AG10","v":0.08},null,null,null,0,0,-0.96,0,0,null,{"$f":"AQ10","v":-9},null,null,null,0,null,null,null,8.64,null,null,null,{"$f":"AU18+AY18","v":8.64}]
[null,null,0,0,0,-53,0,null,null,null,null,null,0,0,0,-0.74,0,null,null,null,null,null,{"$f":"BC19","v":0.10999999999999988},null,null,null,0,0,0,-53,0,null,{"$f":"AG11","v":-0.03},null,null,null,0,0,0,-0.74,0,null,{"$f":"AQ11","v":2},null,null,null,1.5899999999999999,null,null,null,-1.48,null,null,null,{"$f":"AU19+AY19","v":0.10999999999999988}]
[null,null,0,0,0,0,45,null,null,null,null,null,0,0,0,0,0,null,null,null,null,null,{"$f":"BC20","v":-0.9},null,null,null,0,0,0,0,45,null,{"$f":"AG12","v":-0.02},null,null,null,0,0,0,0,0,null,{"$f":"AQ12","v":-7},null,null,null,-0.9,null,null,null,0,null,null,null,{"$f":"AU20+AY20","v":-0.9}]
[]
[]
[]
[]
[null,null,null,null,null,null,null,null,null,null,null,null,null,null,null,null,"x","=",-5.9999999999999963E-2,null,null,"y","=",6]
[null,null,null,null,null,null,null,null,null,null,null,null,null,null,null,null,null,null,-4.0000000000000029E-2,null,null,null,null,2.9999999999999938,null,null,null,null,null,null,null,null,null,null,null,null,null,"source","http://www.boundary-element-method.com/Excel_VBA/gls.xlsm"]
[null,null,null,null,null,null,null,null,null,null,null,null,null,null,null,null,null,null,8.0000000000000043E-2,null,null,null,null,-9.0000000000000018,null,null,null,null,null,null,null,null,null,null,null,null,null,"guide","http://www.boundary-element-method.com/Excel_VBA/gls_bas.pdf"]
[null,null,null,null,null,null,null,null,null,null,null,null,null,null,null,null,null,null,-2.999999999999995E-2,null,null,null,null,1.9999999999999967]
[null,null,null,null,null,null,null,null,null,null,null,null,null,null,null,null,null,null,-0.02,null,null,null,null,-6.9999999999999973]
[]
[]
[]
[null,{"$f":"'2x2'!B25","v":"Stored information from the gls module. This can be re-used by the regls module to find a 'quick' solution if only c and f are changed."},null,null,null,null,null,null,null,null,null,null,null,null,null,null,null,null,null,null,null,null,null,null,null,null,{"$f":"'2x2'!T25","v":"Guide: A and B are assumed tobe 'fixed' (as above). Set up the test problem in the brown areas. "}]
[]
[null,null,{"$f":"'2x2'!C26:D26","v":"new 'A'"},null,null,null,null,null,null,null,null,null,"new 'B'",null,null,null,null,null,null,null,{"$f":"'2x2'!O26","v":"xory"},null,{"$f":"'2x2'!P26","v":"perm"},null,null,null,"A",null,null,null,null,null,"x",null,null,null,"B",null,null,null,null,null,"y",null,null,null,"Ax",null,null,null,"By",null,null,null,"c"]
[null,null,94.024000000000001,-0.41636363636363632,-17,-0.11641509433962272,-0.55000000000000004,null,null,null,null,null,-0.35599999999999998,0.48484848484848486,-0.95833333333333337,1.1698113207547169,1.8222222222222222,null,null,null,true,null,2,null,null,null,{"$f":"AA8","v":19},-32,-92,62,-82,null,0.3,null,"-",null,{"$f":"AK8","v":-0.89},0.16,0.92,-0.79,-0.96,null,24,null,"=",null,{"$f":"MMULT(AA36:AE40,AG36:AG40)","v":-184.5},null,"-",null,{"$f":"MMULT(AK36:AO40,AQ36:AQ40)","v":-54.39},null,"=",null,{"$f":"AU36-AY36","v":-130.11000000000001}]
[null,null,-0.98723730111460906,-1.3210497126459009,-105.78303411894835,-0.8790802669410781,-1.4429805156130351,null,null,null,null,null,0.128,-1.3787878787878789,0.42708333333333331,0.79245283018867929,-0.57777777777777772,null,null,null,false,null,5,null,null,null,93,91,-17,42,26,null,-1.3,null,null,null,0.32,0.83,-0.41,-0.47,0.55000000000000004,null,-33,null,null,null,-66.2,null,null,null,-56.4,null,null,null,{"$f":"AU37-AY37","v":-9.8000000000000043}]
[null,null,0.17178592699736239,0.17707822042918736,-70.347767807661455,0.10000406682346807,1.3100026816672967,null,null,null,null,null,0.26800000000000002,-1.4848484848484849,-0.97916666666666663,-1.7358490566037736,1.4666666666666666,null,null,null,true,null,1,null,null,null,76,98,-5,-92,-66,null,0.4,null,null,null,0.67,0.87,0.94,-0.37,0.57999999999999996,null,0,null,null,null,-192.60000000000002,null,null,null,-44.16,null,null,null,{"$f":"AU38-AY38","v":-148.44000000000003}]
[null,null,0.83110695141665958,5.942451771121221E-2,-0.21912456413366982,1.8254339644889832,0.24991101112042868,null,null,null,null,null,-0.21200000000000002,1.3787878787878789,0.76041666666666663,0.24528301886792453,1.7777777777777777,null,null,null,false,null,3,null,null,null,-31,-91,-94,13,-80,null,-0.5,null,null,null,-0.53,0.42,-0.73,-0.46,-0.12,null,57,null,null,null,-95.1,null,null,null,-50.64,null,null,null,{"$f":"AU39-AY39","v":-44.459999999999994}]
[null,null,-0.34774100229728577,0.74064061518618818,0.30653972748494052,0.47026384490642587,0.47838044750503439,null,null,null,null,null,-0.22799999999999998,-0.16666666666666666,0.14583333333333334,-7.5471698113207544E-2,0.82222222222222219,null,null,null,false,null,4,null,null,null,-91,11,-89,-4,-37,null,2,null,null,null,-0.56999999999999995,0.96,-0.14000000000000001,0.82,0.9,null,-18,null,null,null,-149.19999999999999,null,null,null,-14.820000000000004,null,null,null,{"$f":"AU40-AY40","v":-134.38}]
[]
[]
[null,null,"D_alpha",null,null,null,null,null,null,null,null,null,"D_beta",null,null,null,null,null,null,null,null,null,"f",null,null,null,"D_alpha",null,null,null,null,null,"x",null,null,null,"D_beta",null,null,null,null,null,"y",null,null,"D_alpha x",null,null,null,"D_beta y",null,null,null,null,"f"]
[null,null,{"$f":"C16","v":8},0,0,0,0,null,"x",null,"+",null,{"$f":"M16","v":2.5},0,0,0,0,null,"y",null,"=",null,{"$f":"BC44","v":62.4},null,null,null,{"$f":"AA16","v":8},0,0,0,0,null,{"$f":"AG36","v":0.3},null,"+",null,{"$f":"AK16","v":2.5},0,0,0,0,null,{"$f":"AQ36","v":24},null,"=",null,{"$f":"MMULT(AA44:AE48,AG44:AG48)","v":2.4},null,"+",null,{"$f":"MMULT(AK44:AO48,AQ44:AQ48)","v":60},null,"=",null,{"$f":"AU44+AY44","v":62.4}]
[null,null,0,66,0,0,0,null,null,null,null,null,0,-0.3,0,0,0,null,null,null,null,null,{"$f":"BC45","v":-75.899999999999991},null,null,null,0,66,0,0,0,null,{"$f":"AG37","v":-1.3},null,null,null,0,-0.3,0,0,0,null,{"$f":"AQ37","v":-33},null,null,null,-85.8,null,null,null,9.9,null,null,null,{"$f":"AU45+AY45","v":-75.899999999999991}]
[null,null,0,0,0,0,0,null,null,null,null,null,0,0,-0.96,0,0,null,null,null,null,null,{"$f":"BC46","v":0},null,null,null,0,0,0,0,0,null,{"$f":"AG38","v":0.4},null,null,null,0,0,-0.96,0,0,null,{"$f":"AQ38","v":0},null,null,null,0,null,null,null,0,null,null,null,{"$f":"AU46+AY46","v":0}]
[null,null,0,0,0,-53,0,null,null,null,null,null,0,0,0,-0.74,0,null,null,null,null,null,{"$f":"BC47","v":-15.68},null,null,null,0,0,0,-53,0,null,{"$f":"AG39","v":-0.5},null,null,null,0,0,0,-0.74,0,null,{"$f":"AQ39","v":57},null,null,null,26.5,null,null,null,-42.18,null,null,null,{"$f":"AU47+AY47","v":-15.68}]
[null,null,0,0,0,0,45,null,null,null,null,null,0,0,0,0,0,null,null,null,null,null,{"$f":"BC48","v":90},null,null,null,0,0,0,0,45,null,{"$f":"AG40","v":2},null,null,null,0,0,0,0,0,null,{"$f":"AQ40","v":-18},null,null,null,90,null,null,null,0,null,null,null,{"$f":"AU48+AY48","v":90}]
[]
[]
[null,null,null,"new c",null,"new f",null,null,null,null,null,null,null,null,null,"x",null,"y"]
[null,null,null,{"$f":"BC36","v":-130.11000000000001},null,{"$f":"BC44","v":62.4},null,null,null,null,null,null,null,null,null,0.2999999999999996,null,24,null,null,null,null,null,null,null,null,null,"source","http://www.boundary-element-method.com/Excel_VBA/regls.xlsm"]
[null,null,null,{"$f":"BC37","v":-9.8000000000000043},null,{"$f":"BC45","v":-75.899999999999991},null,null,null,null,null,null,null,null,null,-1.3000000000000014,null,-33.000000000000369,null,null,null,null,null,null,null,null,null,"guide","http://www.boundary-element-method.com/Excel_VBA/regls_bas.pdf"]
[null,null,null,{"$f":"BC38","v":-148.44000000000003},null,{"$f":"BC46","v":0},null,null,null,null,null,null,null,null,null,0.4000000000000033,null,0]
[null,null,null,{"$f":"BC39","v":-44.459999999999994},null,{"$f":"BC47","v":-15.68},null,null,null,null,null,null,null,null,null,-0.49999999999999933,null,56.99999999999995]
[null,null,null,{"$f":"BC40","v":-134.38},null,{"$f":"BC48","v":90},null,null,null,null,null,null,null,null,null,2,null,-17.999999999999854]